BEGIN:VCALENDAR
VERSION:2.0
PRODID:-//Cogwheel Counselling - ECPv6.15.20//NONSGML v1.0//EN
CALSCALE:GREGORIAN
METHOD:PUBLISH
X-ORIGINAL-URL:https://www.cogwheel.org.uk
X-WR-CALDESC:Events for Cogwheel Counselling
REFRESH-INTERVAL;VALUE=DURATION:PT1H
X-Robots-Tag:noindex
X-PUBLISHED-TTL:PT1H
BEGIN:VTIMEZONE
TZID:UTC
BEGIN:STANDARD
TZOFFSETFROM:+0000
TZOFFSETTO:+0000
TZNAME:UTC
DTSTART:20230101T000000
END:STANDARD
END:VTIMEZONE
BEGIN:VEVENT
DTSTART;TZID=UTC:20250518T073000
DTEND;TZID=UTC:20250518T190000
DTSTAMP:20260419T130738
CREATED:20241210T105526Z
LAST-MODIFIED:20241210T105812Z
UID:8170-1747553400-1747594800@www.cogwheel.org.uk
SUMMARY:Cogwheel Cambridge Stride 2025
DESCRIPTION:Cogwheel Counselling is once again organising the Cogwheel Cambridge Stride\, a special community walking/running event taking place on Sunday 18th May 2025. We also hope the event will promote the importance of mental wellbeing. \nThe Stride is a 27-mile self-guided walk around the perimeter of Cambridge\, with shorter options of 13 and 6 miles for walkers and runners. The Stride uses the historic River Cam as the spine of the walk\, with Grantchester Meadows as its most southerly point before it rejoins the Cam past Stourbridge Common on the northern part of the route. The Stride passes through a number of charming Cambridgeshire villages. \nThe 27-mile marathon distance walk starts and finishes in Histon\, with registration on the day between 7.30am and 8am. \nThere is a choice of two starting points for the 6- and 13-mile options\, either in Histon or at Shelford Rugby Club (6- and 13-mile options are only available on the western part of the route\, with Coton Rec being the stopping point for 6-mile walkers/runners). The walks/runs will have a starting time between 8am and 10am. Runners are welcome to run for fun and enjoyment; there is no race and no run timings are provided. A free minibus shuttle service will return 6- and 13-mile walkers/runners to their original starting point. \nGuidance on the route will be provided through a mobile phone route app and a map guide with support. The route app will be available closer to the time for registered walkers. \nAll entry proceeds from the Stride will go to help meet the cost of the event and support Cogwheel in its mission to provide affordable mental health counselling for individuals and families in Cambridgeshire.
URL:https://www.cogwheel.org.uk/event/cogwheel-cambridge-stride-2025/
CATEGORIES:running,walk
ATTACH;FMTTYPE=image/jpeg:https://www.cogwheel.org.uk/wp-content/uploads/2024/12/Stride-website-header-2025.jpg
END:VEVENT
BEGIN:VEVENT
DTSTART;TZID=UTC:20250309T093000
DTEND;TZID=UTC:20250309T130000
DTSTAMP:20260419T130738
CREATED:20241106T123651Z
LAST-MODIFIED:20241106T123651Z
UID:8137-1741512600-1741525200@www.cogwheel.org.uk
SUMMARY:Cambridge Half Marathon 2025
DESCRIPTION:The TTP Cambridge Half Marathon returns on Sunday 9th March 2025. The completely flat route starts and finishes on Midsummer Common\, taking you through picturesque college grounds and past some of the famous landmarks of this historic city. \nSince its launch in 2012\, the event has become one of the fastest growing in the UK and is now the largest mass participation event in Cambridgeshire. \nJoin #TeamCogwheel\nCogwheel has purchased a number of charity places for the TTP Cambridge Half Marathon. General entry places have already sold out\, so running as part of #TeamCogwheel is a great way to still guarantee your place whilst also helping raise valuable funds for a small local charity. Find out more here.
URL:https://www.cogwheel.org.uk/event/cambridge-half-marathon-2025/
LOCATION:Midsummer Common\, Cambridge\, United Kingdom
CATEGORIES:running
ATTACH;FMTTYPE=image/jpeg:https://www.cogwheel.org.uk/wp-content/uploads/2024/08/CHM2025-website-image.jpg
END:VEVENT
BEGIN:VEVENT
DTSTART;TZID=UTC:20241231T100000
DTEND;TZID=UTC:20241231T130000
DTSTAMP:20260419T130738
CREATED:20240912T083526Z
LAST-MODIFIED:20240912T083526Z
UID:7969-1735639200-1735650000@www.cogwheel.org.uk
SUMMARY:Cogwheel Canter Running Festival
DESCRIPTION:Cogwheel Counselling is organising an end of year Running Festival for all ages\, taking place at Girton Recreation Ground\, CB3 0FH. \nAll proceeds will go to Cogwheel Counselling\, supporting the charity’s mission to provide affordable mental health counselling for individuals of all ages in Cambridgeshire. \nThe first Cogwheel Canter Running Festival was held in 2019 on Jesus Green\, Cambridge\, before moving to Girton in 2022 following a two-year break due to Covid-19. \nSuitable for all age groups and with all runs off road\, this is a perfect event to get all the family involved. Runners can choose from 5k and 10k races\, a 2k fun run and a 200m toddler mini-run.
URL:https://www.cogwheel.org.uk/event/cogwheel-canter-running-festival/
LOCATION:Girton Recreation Ground\, CB3 0FH
CATEGORIES:running
ATTACH;FMTTYPE=image/jpeg:https://www.cogwheel.org.uk/wp-content/uploads/2024/09/Cogwheel-Canter-website-image-25-x-20-cm.jpg
END:VEVENT
END:VCALENDAR